BEGIN:VCALENDAR
VERSION:2.0
PRODID:-//MAX - ECPv6.15.17.1//NONSGML v1.0//EN
CALSCALE:GREGORIAN
METHOD:PUBLISH
X-ORIGINAL-URL:https://metroatlantaexchange.org
X-WR-CALDESC:Events for MAX
REFRESH-INTERVAL;VALUE=DURATION:PT1H
X-Robots-Tag:noindex
X-PUBLISHED-TTL:PT1H
BEGIN:VTIMEZONE
TZID:America/New_York
BEGIN:DAYLIGHT
TZOFFSETFROM:-0500
TZOFFSETTO:-0400
TZNAME:EDT
DTSTART:20240310T070000
END:DAYLIGHT
BEGIN:STANDARD
TZOFFSETFROM:-0400
TZOFFSETTO:-0500
TZNAME:EST
DTSTART:20241103T060000
END:STANDARD
BEGIN:DAYLIGHT
TZOFFSETFROM:-0500
TZOFFSETTO:-0400
TZNAME:EDT
DTSTART:20250309T070000
END:DAYLIGHT
BEGIN:STANDARD
TZOFFSETFROM:-0400
TZOFFSETTO:-0500
TZNAME:EST
DTSTART:20251102T060000
END:STANDARD
BEGIN:DAYLIGHT
TZOFFSETFROM:-0500
TZOFFSETTO:-0400
TZNAME:EDT
DTSTART:20260308T070000
END:DAYLIGHT
BEGIN:STANDARD
TZOFFSETFROM:-0400
TZOFFSETTO:-0500
TZNAME:EST
DTSTART:20261101T060000
END:STANDARD
END:VTIMEZONE
BEGIN:VEVENT
DTSTART;TZID=America/New_York:20251022T080000
DTEND;TZID=America/New_York:20251024T170000
DTSTAMP:20260422T172706
CREATED:20250824T205820Z
LAST-MODIFIED:20250824T205820Z
UID:10035159-1761120000-1761325200@metroatlantaexchange.org
SUMMARY:National Conference of State Legislatures (NCSL): 2025 National Seminar on Human Resource Management in State Legislatures
DESCRIPTION:The National Conference of State Legislatures (NCSL) is hosting the 2025 National Seminar on Human Resource Management in State Legislatures starting Wednesday\, October 22nd through Friday\, October 24th\, from 8:00 AM to 5:00 PM\, at Signia by Hilton. \nNCSL’s National Seminar on Human Resource Management in State Legislatures is designed for legislative HR professionals and for senior legislative staff who have responsibilities for creating\, implementing and enforcing HR policies and practices. No other national training program offers this special focus on the legislature as an employer or brings together legislative staff who need to know more about this critical body of knowledge. The most powerful aspect of the HR Seminar—in addition to the formal training agenda—is the opportunity for you to network with your colleagues from other state legislatures and share stories\, concerns\, ideas and solutions about critical HR challenges. \nClick here to learn more and register.
URL:https://metroatlantaexchange.org/event/national-conference-of-state-legislatures-ncsl-2025-national-seminar-on-human-resource-management-in-state-legislatures/
LOCATION:Signia by Hilton – San Jose\, 170 South Market Street\, San Jose\, CA\, 95113\, United States
CATEGORIES:Conferences,In-Person Event,Workforce Developer
END:VEVENT
END:VCALENDAR