BEGIN:VCALENDAR
VERSION:2.0
PRODID:-//MAX - ECPv6.15.17.1//NONSGML v1.0//EN
CALSCALE:GREGORIAN
METHOD:PUBLISH
X-WR-CALNAME:MAX
X-ORIGINAL-URL:https://metroatlantaexchange.org
X-WR-CALDESC:Events for MAX
REFRESH-INTERVAL;VALUE=DURATION:PT1H
X-Robots-Tag:noindex
X-PUBLISHED-TTL:PT1H
BEGIN:VTIMEZONE
TZID:America/New_York
BEGIN:DAYLIGHT
TZOFFSETFROM:-0500
TZOFFSETTO:-0400
TZNAME:EDT
DTSTART:20250309T070000
END:DAYLIGHT
BEGIN:STANDARD
TZOFFSETFROM:-0400
TZOFFSETTO:-0500
TZNAME:EST
DTSTART:20251102T060000
END:STANDARD
BEGIN:DAYLIGHT
TZOFFSETFROM:-0500
TZOFFSETTO:-0400
TZNAME:EDT
DTSTART:20260308T070000
END:DAYLIGHT
BEGIN:STANDARD
TZOFFSETFROM:-0400
TZOFFSETTO:-0500
TZNAME:EST
DTSTART:20261101T060000
END:STANDARD
BEGIN:DAYLIGHT
TZOFFSETFROM:-0500
TZOFFSETTO:-0400
TZNAME:EDT
DTSTART:20270314T070000
END:DAYLIGHT
BEGIN:STANDARD
TZOFFSETFROM:-0400
TZOFFSETTO:-0500
TZNAME:EST
DTSTART:20271107T060000
END:STANDARD
END:VTIMEZONE
BEGIN:VEVENT
DTSTART;TZID=America/New_York:20260429T160000
DTEND;TZID=America/New_York:20260429T200000
DTSTAMP:20260422T121318
CREATED:20260408T212005Z
LAST-MODIFIED:20260408T212005Z
UID:10036227-1777478400-1777492800@metroatlantaexchange.org
SUMMARY:Women in Technology (WIT): WIT Connect
DESCRIPTION:Women in Technology (WIT) is hosting a WIT Connect event on Wednesday\, April 29th\, from 4:00 PM to 8:00 PM\, at Topgolf in Midtown. \nJoin leaders and professionals from across the tech industry to support WIT programming and community-building at WIT Connect\, an annual fundraising event. It’s a fun and powerful way to show your support for women and girls in technology\, and you won’t want to miss it! If you don’t want to play golf\, there’s still plenty to enjoy! Food and drinks will be provided in a casual setting to meet other tech professionals and make new friends in the WIT community. \nClick here to learn more and register.
URL:https://metroatlantaexchange.org/event/women-in-technology-wit-wit-connect/
LOCATION:TopGolf- Atlanta\, 1600 Ellsworth Industrial Boulevard\, NW\, Atlanta\, GA\, 30318\, United States
CATEGORIES:Career Development,In-Person Event,Job Seeker
END:VEVENT
END:VCALENDAR