BEGIN:VCALENDAR
VERSION:2.0
PRODID:-//MAX - ECPv6.15.17.1//NONSGML v1.0//EN
CALSCALE:GREGORIAN
METHOD:PUBLISH
X-ORIGINAL-URL:https://metroatlantaexchange.org
X-WR-CALDESC:Events for MAX
REFRESH-INTERVAL;VALUE=DURATION:PT1H
X-Robots-Tag:noindex
X-PUBLISHED-TTL:PT1H
BEGIN:VTIMEZONE
TZID:America/New_York
BEGIN:DAYLIGHT
TZOFFSETFROM:-0500
TZOFFSETTO:-0400
TZNAME:EDT
DTSTART:20240310T070000
END:DAYLIGHT
BEGIN:STANDARD
TZOFFSETFROM:-0400
TZOFFSETTO:-0500
TZNAME:EST
DTSTART:20241103T060000
END:STANDARD
BEGIN:DAYLIGHT
TZOFFSETFROM:-0500
TZOFFSETTO:-0400
TZNAME:EDT
DTSTART:20250309T070000
END:DAYLIGHT
BEGIN:STANDARD
TZOFFSETFROM:-0400
TZOFFSETTO:-0500
TZNAME:EST
DTSTART:20251102T060000
END:STANDARD
BEGIN:DAYLIGHT
TZOFFSETFROM:-0500
TZOFFSETTO:-0400
TZNAME:EDT
DTSTART:20260308T070000
END:DAYLIGHT
BEGIN:STANDARD
TZOFFSETFROM:-0400
TZOFFSETTO:-0500
TZNAME:EST
DTSTART:20261101T060000
END:STANDARD
END:VTIMEZONE
BEGIN:VEVENT
DTSTART;TZID=America/New_York:20251023T090000
DTEND;TZID=America/New_York:20251023T150000
DTSTAMP:20260422T135715
CREATED:20250824T190004Z
LAST-MODIFIED:20250824T190004Z
UID:10035095-1761210000-1761231600@metroatlantaexchange.org
SUMMARY:Society for Human Resource Management (SHRM) – Atlanta: Legal and Risk Management Summit
DESCRIPTION:The Society for Human Resource Management (SHRM) – Atlanta is hosting its Legal and Risk Management Summit on Thursday\, October 23rd\, from 9:00 AM to 3:00 PM\, at the Two Alliance Center. \nLegal topics are complex\, intimidating\, and ever-changing. Connect with legal experts and your peers to gain essential employment law knowledge. Your participation will enhance your professional development and provide tools to support your organization. \nClick here to learn more and register.
URL:https://metroatlantaexchange.org/event/society-for-human-resource-management-shrm-atlanta-legal-and-risk-management-summit/
LOCATION:Two Alliance Center\, 3560 Lenox Road\, NE\, Atlanta\, GA\, 30326\, United States
CATEGORIES:Conferences,In-Person Event,Workforce Developer
ORGANIZER;CN="The Society for Human Resource Management":MAILTO:info@shrmatlanta.org
END:VEVENT
END:VCALENDAR