BEGIN:VCALENDAR
VERSION:2.0
PRODID:-//MAX - ECPv6.15.17.1//NONSGML v1.0//EN
CALSCALE:GREGORIAN
METHOD:PUBLISH
X-WR-CALNAME:MAX
X-ORIGINAL-URL:https://metroatlantaexchange.org
X-WR-CALDESC:Events for MAX
REFRESH-INTERVAL;VALUE=DURATION:PT1H
X-Robots-Tag:noindex
X-PUBLISHED-TTL:PT1H
BEGIN:VTIMEZONE
TZID:America/New_York
BEGIN:DAYLIGHT
TZOFFSETFROM:-0500
TZOFFSETTO:-0400
TZNAME:EDT
DTSTART:20240310T070000
END:DAYLIGHT
BEGIN:STANDARD
TZOFFSETFROM:-0400
TZOFFSETTO:-0500
TZNAME:EST
DTSTART:20241103T060000
END:STANDARD
BEGIN:DAYLIGHT
TZOFFSETFROM:-0500
TZOFFSETTO:-0400
TZNAME:EDT
DTSTART:20250309T070000
END:DAYLIGHT
BEGIN:STANDARD
TZOFFSETFROM:-0400
TZOFFSETTO:-0500
TZNAME:EST
DTSTART:20251102T060000
END:STANDARD
BEGIN:DAYLIGHT
TZOFFSETFROM:-0500
TZOFFSETTO:-0400
TZNAME:EDT
DTSTART:20260308T070000
END:DAYLIGHT
BEGIN:STANDARD
TZOFFSETFROM:-0400
TZOFFSETTO:-0500
TZNAME:EST
DTSTART:20261101T060000
END:STANDARD
END:VTIMEZONE
BEGIN:VEVENT
DTSTART;TZID=America/New_York:20250521T100000
DTEND;TZID=America/New_York:20250521T143000
DTSTAMP:20260422T141625
CREATED:20250506T182249Z
LAST-MODIFIED:20250506T182249Z
UID:10033759-1747821600-1747837800@metroatlantaexchange.org
SUMMARY:Hiring Our Heroes: Military Spouse Employment Summit 2025
DESCRIPTION:Hiring Our Heroes is hosting a Military Spouse Employment Summit 2025 on Wednesday\, May 21st\, from 10:00 AM to 2:30 PM\, at the U.S. Chamber of Commerce. \nForging America’s Future Talent is crucial for maintaining the country’s competitiveness and national security. As technological advancements and global challenges continue to evolve\, creating a future of work that is flexible\, inclusive\, and sustainable is critical for our nation’s military spouses. This annual event celebrates the unique strengths of military spouses and their role in shaping America’s future talent\, bringing together changemakers to explore innovative pathways for developing skills in critical fields. Through dynamic workshops\, inspiring keynote speeches\, and collaborative sessions\, we aim to bridge the gap between military life and career opportunities\, ensuring that military spouses play a pivotal role in developing the nation’s workforce. \nClick here to register.
URL:https://metroatlantaexchange.org/event/hiring-our-heroes-military-spouse-employment-summit-2025/
LOCATION:U.S. Chamber of Commerce Foundation – Great Hall\, 1615 H Street\, NW\, Washington\, District of Columbia\, 20062
CATEGORIES:Conferences,In-Person Event,Workforce Developer
END:VEVENT
END:VCALENDAR