BEGIN:VCALENDAR
VERSION:2.0
PRODID:-//MAX - ECPv6.15.17.1//NONSGML v1.0//EN
CALSCALE:GREGORIAN
METHOD:PUBLISH
X-ORIGINAL-URL:https://metroatlantaexchange.org
X-WR-CALDESC:Events for MAX
REFRESH-INTERVAL;VALUE=DURATION:PT1H
X-Robots-Tag:noindex
X-PUBLISHED-TTL:PT1H
BEGIN:VTIMEZONE
TZID:America/New_York
BEGIN:DAYLIGHT
TZOFFSETFROM:-0500
TZOFFSETTO:-0400
TZNAME:EDT
DTSTART:20240310T070000
END:DAYLIGHT
BEGIN:STANDARD
TZOFFSETFROM:-0400
TZOFFSETTO:-0500
TZNAME:EST
DTSTART:20241103T060000
END:STANDARD
BEGIN:DAYLIGHT
TZOFFSETFROM:-0500
TZOFFSETTO:-0400
TZNAME:EDT
DTSTART:20250309T070000
END:DAYLIGHT
BEGIN:STANDARD
TZOFFSETFROM:-0400
TZOFFSETTO:-0500
TZNAME:EST
DTSTART:20251102T060000
END:STANDARD
BEGIN:DAYLIGHT
TZOFFSETFROM:-0500
TZOFFSETTO:-0400
TZNAME:EDT
DTSTART:20260308T070000
END:DAYLIGHT
BEGIN:STANDARD
TZOFFSETFROM:-0400
TZOFFSETTO:-0500
TZNAME:EST
DTSTART:20261101T060000
END:STANDARD
END:VTIMEZONE
BEGIN:VEVENT
DTSTART;TZID=America/New_York:20251022T080000
DTEND;TZID=America/New_York:20251024T170000
DTSTAMP:20260422T153659
CREATED:20250824T210024Z
LAST-MODIFIED:20250824T210024Z
UID:10035160-1761120000-1761325200@metroatlantaexchange.org
SUMMARY:REMI: 40th Annual Users’ Conference
DESCRIPTION:REMI is hosting its 40th Annual Users’ Conference starting Wednesday\, October 22nd through Friday\, October 24th\, at Weber’s Boutique Hotel. \nREMI is thrilled to announce that our 2025 Users’ Conference will be held at Weber’s Boutique Hotel in Ann Arbor\, Michigan. More information will be shared as it becomes available. \nPlease reach out to Event Coordinator Brian Riel at riel@remi.comif you have any questions about this conference. \nClick here to learn more.
URL:https://metroatlantaexchange.org/event/remi-40th-annual-users-conference/
LOCATION:Weber’s Boutique Hotel\, 3050 Jackson Avenue\, Ann Arbor\, MI\, 48103\, United States
CATEGORIES:Conferences,In-Person Event,Workforce Developer
END:VEVENT
END:VCALENDAR